BEGIN:VCALENDAR
VERSION:2.0
PRODID:-//www.arcnbc.org//NONSGML kigkonsult.se iCalcreator 2.30.10//
CALSCALE:GREGORIAN
METHOD:PUBLISH
UID:60a9fe59-a887-46da-8a1a-48a6f7eb3d0a
X-WR-CALDESC:We will be going out for dinner in Providence.  Then heading o
 ver to Providence performing Art Center for Charlie & the Chocolate factor
 y.  There is a link below to tell you a little about the theater and the s
 how.
X-WR-RELCALID:d6a9daba14bb5e17b664e559f910e8b5
X-WR-TIMEZONE:America/New_York
BEGIN:VTIMEZONE
TZID:America/New_York
BEGIN:STANDARD
TZNAME:EST
DTSTART:20181104T020000
TZOFFSETFROM:-0400
TZOFFSETTO:-0500
RDATE:20191103T020000
END:STANDARD
BEGIN:DAYLIGHT
TZNAME:EDT
DTSTART:20180311T020000
TZOFFSETFROM:-0500
TZOFFSETTO:-0400
RDATE:20190310T020000
RDATE:20200308T020000
END:DAYLIGHT
END:VTIMEZONE
BEGIN:VEVENT
UID:6c7123ac-c63f-4b60-85ab-1cd1e35d3490
DTSTAMP:20260423T121048Z
DESCRIPTION:We will be going out for dinner in Providence.  Then heading ov
 er to Providence performing Art Center for Charlie & the Chocolate factory
 .  There is a link below to tell you a little about the theater and the sh
 ow.
DTSTART;TZID=America/New_York:20190210T160000
DTEND;TZID=America/New_York:20190210T223000
LOCATION:Providence Performing Art Center
SUMMARY:Charlie & the Chocolate Factory
END:VEVENT
END:VCALENDAR
