BEGIN:VCALENDAR
VERSION:2.0
PRODID:-//www.arcnbc.org//NONSGML kigkonsult.se iCalcreator 2.30.10//
CALSCALE:GREGORIAN
METHOD:PUBLISH
UID:e8d2fb36-b563-4a1c-8453-d5bd9c68ee9c
X-WR-CALDESC:Weekly Bowling event.
X-WR-RELCALID:151ad229ca62ef391d3c9289504657ba
X-WR-TIMEZONE:America/New_York
BEGIN:VTIMEZONE
TZID:America/New_York
BEGIN:STANDARD
TZNAME:EST
DTSTART:20181104T020000
TZOFFSETFROM:-0400
TZOFFSETTO:-0500
RDATE:20191103T020000
END:STANDARD
BEGIN:DAYLIGHT
TZNAME:EDT
DTSTART:20180311T020000
TZOFFSETFROM:-0500
TZOFFSETTO:-0400
RDATE:20190310T020000
RDATE:20200308T020000
END:DAYLIGHT
END:VTIMEZONE
BEGIN:VEVENT
UID:01255822-b12c-45ee-8ff2-a2556114e9f3
DTSTAMP:20260423T120111Z
DESCRIPTION:Weekly Bowling event.
DTSTART;TZID=America/New_York:20190212T180000
DTEND;TZID=America/New_York:20190212T200000
LOCATION:East Providence Lanes
SUMMARY:Bowling
END:VEVENT
END:VCALENDAR
