BEGIN:VCALENDAR
VERSION:2.0
PRODID:-//www.arcnbc.org//NONSGML kigkonsult.se iCalcreator 2.30.10//
CALSCALE:GREGORIAN
METHOD:PUBLISH
UID:88a5642e-7a76-4166-bca2-fe22e0a73678
X-WR-CALDESC:We will be hosting our very first Valentine\;s dance at our RI
  location proAbility.  We will have music\, dancing\, drinks and light sna
 cks.  All proAbility participants will need to be transported to and from 
 Smithfield.
X-WR-RELCALID:464935610c5f61dec97eb5801e7cb3de
X-WR-TIMEZONE:America/New_York
BEGIN:VTIMEZONE
TZID:America/New_York
BEGIN:STANDARD
TZNAME:EST
DTSTART:20181104T020000
TZOFFSETFROM:-0400
TZOFFSETTO:-0500
RDATE:20191103T020000
END:STANDARD
BEGIN:DAYLIGHT
TZNAME:EDT
DTSTART:20180311T020000
TZOFFSETFROM:-0500
TZOFFSETTO:-0400
RDATE:20190310T020000
RDATE:20200308T020000
END:DAYLIGHT
END:VTIMEZONE
BEGIN:VEVENT
UID:a72ed36a-acce-4e0e-b150-34ee93070362
DTSTAMP:20260423T120448Z
DESCRIPTION:We will be hosting our very first Valentine\;s dance at our RI 
 location proAbility.  We will have music\, dancing\, drinks and light snac
 ks.  All proAbility participants will need to be transported to and from S
 mithfield.
DTSTART;TZID=America/New_York:20190214T180000
DTEND;TZID=America/New_York:20190214T220000
LOCATION:25 Thurber Blvd.  Smithfield\, RI
SUMMARY:Valentine's Day Dance
END:VEVENT
END:VCALENDAR
