BEGIN:VCALENDAR
VERSION:2.0
PRODID:-//www.arcnbc.org//NONSGML kigkonsult.se iCalcreator 2.30.10//
CALSCALE:GREGORIAN
METHOD:PUBLISH
UID:953d6d9a-3bf1-444b-ac3e-9979a251cdc5
X-WR-CALDESC:Weekly Bowling event.
X-WR-RELCALID:5485773bf2100c01f4f19e27ee809126
X-WR-TIMEZONE:America/New_York
BEGIN:VTIMEZONE
TZID:America/New_York
BEGIN:STANDARD
TZNAME:EST
DTSTART:20181104T020000
TZOFFSETFROM:-0400
TZOFFSETTO:-0500
RDATE:20191103T020000
END:STANDARD
BEGIN:DAYLIGHT
TZNAME:EDT
DTSTART:20180311T020000
TZOFFSETFROM:-0500
TZOFFSETTO:-0400
RDATE:20190310T020000
RDATE:20200308T020000
END:DAYLIGHT
END:VTIMEZONE
BEGIN:VEVENT
UID:b132efe5-a837-41f9-997d-b1ae59833b51
DTSTAMP:20260423T120353Z
DESCRIPTION:Weekly Bowling event.
DTSTART;TZID=America/New_York:20190219T180000
DTEND;TZID=America/New_York:20190219T200000
LOCATION:East Providence Lanes
SUMMARY:Bowling
END:VEVENT
END:VCALENDAR
