BEGIN:VCALENDAR
VERSION:2.0
PRODID:-//www.arcnbc.org//NONSGML kigkonsult.se iCalcreator 2.30.10//
CALSCALE:GREGORIAN
METHOD:PUBLISH
UID:a57172ff-aed2-488c-bdf4-3f2a7586725c
X-WR-CALDESC:
X-WR-RELCALID:769e717737f841af1e614649d699d2be
X-WR-TIMEZONE:America/New_York
BEGIN:VTIMEZONE
TZID:America/New_York
BEGIN:STANDARD
TZNAME:EST
DTSTART:20181104T020000
TZOFFSETFROM:-0400
TZOFFSETTO:-0500
RDATE:20191103T020000
END:STANDARD
BEGIN:DAYLIGHT
TZNAME:EDT
DTSTART:20180311T020000
TZOFFSETFROM:-0500
TZOFFSETTO:-0400
RDATE:20190310T020000
RDATE:20200308T020000
END:DAYLIGHT
END:VTIMEZONE
BEGIN:VEVENT
UID:a3879507-07ec-47b9-bce1-c78bba23d67c
DTSTAMP:20260423T115758Z
DESCRIPTION:
DTSTART;TZID=America/New_York:20190221T090000
DTEND;TZID=America/New_York:20190221T160000
LOCATION:16 Hillside Ave
SUMMARY:Orientation
END:VEVENT
END:VCALENDAR
