BEGIN:VCALENDAR
VERSION:2.0
PRODID:-//www.arcnbc.org//NONSGML kigkonsult.se iCalcreator 2.30.10//
CALSCALE:GREGORIAN
METHOD:PUBLISH
UID:f9109f80-28ff-4660-9192-dd1ce152f394
X-WR-CALDESC:
X-WR-RELCALID:bbe116988e259f370162414d8f62bcea
X-WR-TIMEZONE:America/New_York
BEGIN:VTIMEZONE
TZID:America/New_York
BEGIN:STANDARD
TZNAME:EST
DTSTART:20181104T020000
TZOFFSETFROM:-0400
TZOFFSETTO:-0500
RDATE:20191103T020000
END:STANDARD
BEGIN:DAYLIGHT
TZNAME:EDT
DTSTART:20180311T020000
TZOFFSETFROM:-0500
TZOFFSETTO:-0400
RDATE:20190310T020000
RDATE:20200308T020000
END:DAYLIGHT
END:VTIMEZONE
BEGIN:VEVENT
UID:8b00f23b-4506-4c5f-8c91-3ee32606c734
DTSTAMP:20260423T115918Z
DESCRIPTION:
DTSTART;TZID=America/New_York:20190222T150000
DTEND;TZID=America/New_York:20190222T210000
LOCATION:16 Hillside Ave
SUMMARY:First Aid/CPR
END:VEVENT
END:VCALENDAR
