BEGIN:VCALENDAR
VERSION:2.0
PRODID:-//www.arcnbc.org//NONSGML kigkonsult.se iCalcreator 2.30.10//
CALSCALE:GREGORIAN
METHOD:PUBLISH
UID:275e2a28-54bc-48a5-93a5-e2550db7fb73
X-WR-CALDESC:This day will be lunch and movie of your choice! There is a li
 nk added below to check out movies that will be playing.
X-WR-RELCALID:c0f90cc306c649cbd5922330e8b28fcb
X-WR-TIMEZONE:America/New_York
BEGIN:VTIMEZONE
TZID:America/New_York
BEGIN:STANDARD
TZNAME:EST
DTSTART:20181104T020000
TZOFFSETFROM:-0400
TZOFFSETTO:-0500
RDATE:20191103T020000
END:STANDARD
BEGIN:DAYLIGHT
TZNAME:EDT
DTSTART:20180311T020000
TZOFFSETFROM:-0500
TZOFFSETTO:-0400
RDATE:20190310T020000
RDATE:20200308T020000
END:DAYLIGHT
END:VTIMEZONE
BEGIN:VEVENT
UID:d9ee26a4-79ac-497b-b299-d5574713c01a
DTSTAMP:20260423T120111Z
DESCRIPTION:This day will be lunch and movie of your choice! There is a lin
 k added below to check out movies that will be playing.
DTSTART;TZID=America/New_York:20190223T110000
DTEND;TZID=America/New_York:20190223T160000
LOCATION:Regal Cinemas in Taunton\, MA
SUMMARY:Lunch & Matinee
END:VEVENT
END:VCALENDAR
