BEGIN:VCALENDAR
VERSION:2.0
PRODID:-//www.arcnbc.org//NONSGML kigkonsult.se iCalcreator 2.30.10//
CALSCALE:GREGORIAN
METHOD:PUBLISH
UID:54e6df31-a7c6-4cae-b59c-73efb6b6cc39
X-WR-CALDESC:This is a make up event from November 2018.  If you already si
 gned up and paid\, you are all set for this event.
X-WR-RELCALID:e7208d8b7b19d9b9b5449b3d2337cf10
X-WR-TIMEZONE:America/New_York
BEGIN:VTIMEZONE
TZID:America/New_York
BEGIN:STANDARD
TZNAME:EST
DTSTART:20181104T020000
TZOFFSETFROM:-0400
TZOFFSETTO:-0500
RDATE:20191103T020000
END:STANDARD
BEGIN:DAYLIGHT
TZNAME:EDT
DTSTART:20180311T020000
TZOFFSETFROM:-0500
TZOFFSETTO:-0400
RDATE:20190310T020000
RDATE:20200308T020000
END:DAYLIGHT
END:VTIMEZONE
BEGIN:VEVENT
UID:034a38f9-ff2b-4a51-986e-d1f98b47532f
DTSTAMP:20260423T120253Z
DESCRIPTION:This is a make up event from November 2018.  If you already sig
 ned up and paid\, you are all set for this event.
DTSTART;TZID=America/New_York:20190225T163000
DTEND;TZID=America/New_York:20190225T213000
LOCATION:Braintree\, MA
SUMMARY:Dave & Buster's Make up Event
END:VEVENT
END:VCALENDAR
