BEGIN:VCALENDAR
VERSION:2.0
PRODID:-//www.arcnbc.org//NONSGML kigkonsult.se iCalcreator 2.30.10//
CALSCALE:GREGORIAN
METHOD:PUBLISH
UID:295dc0a7-8d99-48be-9d6a-3208245526c9
X-WR-CALDESC:Weekly Bowling event.
X-WR-RELCALID:7012c1bc7d218e4f34aa72dbf4315848
X-WR-TIMEZONE:America/New_York
BEGIN:VTIMEZONE
TZID:America/New_York
BEGIN:STANDARD
TZNAME:EST
DTSTART:20181104T020000
TZOFFSETFROM:-0400
TZOFFSETTO:-0500
RDATE:20191103T020000
END:STANDARD
BEGIN:DAYLIGHT
TZNAME:EDT
DTSTART:20180311T020000
TZOFFSETFROM:-0500
TZOFFSETTO:-0400
RDATE:20190310T020000
RDATE:20200308T020000
END:DAYLIGHT
END:VTIMEZONE
BEGIN:VEVENT
UID:444e1257-d518-43f3-8b3b-ac9725c090b4
DTSTAMP:20260423T120223Z
DESCRIPTION:Weekly Bowling event.
DTSTART;TZID=America/New_York:20190226T180000
DTEND;TZID=America/New_York:20190226T200000
LOCATION:East Providence Lanes
SUMMARY:Bowling
END:VEVENT
END:VCALENDAR
