BEGIN:VCALENDAR
VERSION:2.0
PRODID:-//www.arcnbc.org//NONSGML kigkonsult.se iCalcreator 2.30.10//
CALSCALE:GREGORIAN
METHOD:PUBLISH
UID:558902a1-7b2e-4799-b668-b529309fef6e
X-WR-CALDESC:
X-WR-RELCALID:e0c6ac726034feacdc82a6b44005f521
X-WR-TIMEZONE:America/New_York
BEGIN:VTIMEZONE
TZID:America/New_York
BEGIN:STANDARD
TZNAME:EST
DTSTART:20181104T020000
TZOFFSETFROM:-0400
TZOFFSETTO:-0500
RDATE:20191103T020000
END:STANDARD
BEGIN:DAYLIGHT
TZNAME:EDT
DTSTART:20180311T020000
TZOFFSETFROM:-0500
TZOFFSETTO:-0400
RDATE:20190310T020000
RDATE:20200308T020000
END:DAYLIGHT
END:VTIMEZONE
BEGIN:VEVENT
UID:dee27384-51f6-42a1-853b-f17605a34a80
DTSTAMP:20260423T120710Z
DESCRIPTION:
DTSTART;TZID=America/New_York:20190226T090000
DTEND;TZID=America/New_York:20190226T150000
LOCATION:16 Hillside Ave
SUMMARY:Safety Care Day 1
END:VEVENT
END:VCALENDAR
