BEGIN:VCALENDAR
VERSION:2.0
PRODID:-//www.arcnbc.org//NONSGML kigkonsult.se iCalcreator 2.30.10//
CALSCALE:GREGORIAN
METHOD:PUBLISH
UID:107cf833-04b7-40a0-a59b-69451b51f68f
X-WR-CALDESC:
X-WR-RELCALID:18d50c4eab911bf7bd5c6533bb86ae36
X-WR-TIMEZONE:America/New_York
BEGIN:VTIMEZONE
TZID:America/New_York
BEGIN:STANDARD
TZNAME:EST
DTSTART:20181104T020000
TZOFFSETFROM:-0400
TZOFFSETTO:-0500
RDATE:20191103T020000
END:STANDARD
BEGIN:DAYLIGHT
TZNAME:EDT
DTSTART:20180311T020000
TZOFFSETFROM:-0500
TZOFFSETTO:-0400
RDATE:20190310T020000
RDATE:20200308T020000
END:DAYLIGHT
END:VTIMEZONE
BEGIN:VEVENT
UID:c3536367-6ffc-465e-b601-83b8ecf35a67
DTSTAMP:20260423T120401Z
DESCRIPTION:
DTSTART;TZID=America/New_York:20190227T090000
DTEND;TZID=America/New_York:20190227T150000
LOCATION:16 Hillside Ave
SUMMARY:Safety Care Day 2
END:VEVENT
END:VCALENDAR
