BEGIN:VCALENDAR
VERSION:2.0
PRODID:-//www.arcnbc.org//NONSGML kigkonsult.se iCalcreator 2.30.10//
CALSCALE:GREGORIAN
METHOD:PUBLISH
UID:0c3512c9-07e2-4a85-bcd0-afd5d5be8c2d
X-WR-CALDESC:
X-WR-RELCALID:c02424f0deaa537b484b4661ff187792
X-WR-TIMEZONE:America/New_York
BEGIN:VTIMEZONE
TZID:America/New_York
BEGIN:STANDARD
TZNAME:EST
DTSTART:20181104T020000
TZOFFSETFROM:-0400
TZOFFSETTO:-0500
RDATE:20191103T020000
END:STANDARD
BEGIN:DAYLIGHT
TZNAME:EDT
DTSTART:20180311T020000
TZOFFSETFROM:-0500
TZOFFSETTO:-0400
RDATE:20190310T020000
RDATE:20200308T020000
END:DAYLIGHT
END:VTIMEZONE
BEGIN:VEVENT
UID:b1ecb6b2-0efc-47d3-8ad2-8094d3f05ddc
DTSTAMP:20260423T115756Z
DESCRIPTION:
DTSTART;TZID=America/New_York:20190301T090000
DTEND;TZID=America/New_York:20190301T160000
LOCATION:16 Hillside Ave
SUMMARY:Orientation
END:VEVENT
END:VCALENDAR
