BEGIN:VCALENDAR
VERSION:2.0
PRODID:-//www.arcnbc.org//NONSGML kigkonsult.se iCalcreator 2.30.10//
CALSCALE:GREGORIAN
METHOD:PUBLISH
UID:f1795290-bb96-4ad6-acc1-8065c73f8e59
X-WR-CALDESC:RI Music Legends will be performing at The Stadium Theater in 
 Woonsocket.  This show features John Cafferty and the Beaver Brown Band\, 
   Room Full of Blues\, and Steve Smith & The Nakeds.  They are all bands t
 hat are from RI.  It will be a great show.  We will be having dinner prior
  to the concert.
X-WR-RELCALID:257793929cd1549023034fa51fd2c6ee
X-WR-TIMEZONE:America/New_York
BEGIN:VTIMEZONE
TZID:America/New_York
BEGIN:STANDARD
TZNAME:EST
DTSTART:20181104T020000
TZOFFSETFROM:-0400
TZOFFSETTO:-0500
RDATE:20191103T020000
END:STANDARD
BEGIN:DAYLIGHT
TZNAME:EDT
DTSTART:20180311T020000
TZOFFSETFROM:-0500
TZOFFSETTO:-0400
RDATE:20190310T020000
RDATE:20200308T020000
END:DAYLIGHT
END:VTIMEZONE
BEGIN:VEVENT
UID:568a6892-727b-4dbe-9887-b88b0978f7c3
DTSTAMP:20260423T121149Z
DESCRIPTION:RI Music Legends will be performing at The Stadium Theater in W
 oonsocket.  This show features John Cafferty and the Beaver Brown Band\,  
  Room Full of Blues\, and Steve Smith & The Nakeds.  They are all bands th
 at are from RI.  It will be a great show.  We will be having dinner prior 
 to the concert.
DTSTART;TZID=America/New_York:20190302T160000
DTEND;TZID=America/New_York:20190302T233000
LOCATION:The Stadium Theater Woonsocket\, RI
SUMMARY:RI Music Legends @ The Stadium Theater
END:VEVENT
END:VCALENDAR
