BEGIN:VCALENDAR
VERSION:2.0
PRODID:-//www.arcnbc.org//NONSGML kigkonsult.se iCalcreator 2.30.10//
CALSCALE:GREGORIAN
METHOD:PUBLISH
UID:377d05af-7d0d-47e4-9927-a5b3471e8cad
X-WR-CALDESC:
X-WR-RELCALID:02987cbbc0f9706aaeaa7456d90e8096
X-WR-TIMEZONE:America/New_York
BEGIN:VTIMEZONE
TZID:America/New_York
BEGIN:STANDARD
TZNAME:EST
DTSTART:20181104T020000
TZOFFSETFROM:-0400
TZOFFSETTO:-0500
RDATE:20191103T020000
END:STANDARD
BEGIN:DAYLIGHT
TZNAME:EDT
DTSTART:20180311T020000
TZOFFSETFROM:-0500
TZOFFSETTO:-0400
RDATE:20190310T020000
RDATE:20200308T020000
END:DAYLIGHT
END:VTIMEZONE
BEGIN:VEVENT
UID:5c9f3b84-8419-4906-9197-ab8559b394cf
DTSTAMP:20260423T115921Z
DESCRIPTION:
DTSTART;TZID=America/New_York:20190305T090000
DTEND;TZID=America/New_York:20190305T150000
LOCATION:16 Hillside Ave
SUMMARY:First Aid/CPR
END:VEVENT
END:VCALENDAR
