BEGIN:VCALENDAR
VERSION:2.0
PRODID:-//www.arcnbc.org//NONSGML kigkonsult.se iCalcreator 2.30.10//
CALSCALE:GREGORIAN
METHOD:PUBLISH
UID:68c5622b-5c47-4756-a77a-e31e48b7deb8
X-WR-CALDESC:
X-WR-RELCALID:790831e3f97e827aaaa16685128c9c81
X-WR-TIMEZONE:America/New_York
BEGIN:VTIMEZONE
TZID:America/New_York
BEGIN:STANDARD
TZNAME:EST
DTSTART:20181104T020000
TZOFFSETFROM:-0400
TZOFFSETTO:-0500
RDATE:20191103T020000
END:STANDARD
BEGIN:DAYLIGHT
TZNAME:EDT
DTSTART:20180311T020000
TZOFFSETFROM:-0500
TZOFFSETTO:-0400
RDATE:20190310T020000
RDATE:20200308T020000
END:DAYLIGHT
END:VTIMEZONE
BEGIN:VEVENT
UID:5675ff3a-c9a9-4609-a6c3-66267f013c2c
DTSTAMP:20260423T120645Z
DESCRIPTION:
DTSTART;TZID=America/New_York:20190306T090000
DTEND;TZID=America/New_York:20190306T150000
LOCATION:16 Hillside Ave
SUMMARY:Safety Care Day 1
END:VEVENT
END:VCALENDAR
