BEGIN:VCALENDAR
VERSION:2.0
PRODID:-//www.arcnbc.org//NONSGML kigkonsult.se iCalcreator 2.30.10//
CALSCALE:GREGORIAN
METHOD:PUBLISH
UID:4d00f197-c18d-469c-886a-e5a1a9d5d924
X-WR-CALDESC:
X-WR-RELCALID:cec827fba668563a42d7fe691f155e7f
X-WR-TIMEZONE:America/New_York
BEGIN:VTIMEZONE
TZID:America/New_York
BEGIN:STANDARD
TZNAME:EST
DTSTART:20181104T020000
TZOFFSETFROM:-0400
TZOFFSETTO:-0500
RDATE:20191103T020000
END:STANDARD
BEGIN:DAYLIGHT
TZNAME:EDT
DTSTART:20180311T020000
TZOFFSETFROM:-0500
TZOFFSETTO:-0400
RDATE:20190310T020000
RDATE:20200308T020000
END:DAYLIGHT
END:VTIMEZONE
BEGIN:VEVENT
UID:ec1819f6-44d9-4bf6-ac70-087111eedc3a
DTSTAMP:20260423T120538Z
DESCRIPTION:
DTSTART;TZID=America/New_York:20190307T090000
DTEND;TZID=America/New_York:20190307T150000
LOCATION:16 Hillside Ave
SUMMARY:Safety Care Day 2
END:VEVENT
END:VCALENDAR
