BEGIN:VCALENDAR
VERSION:2.0
PRODID:-//www.arcnbc.org//NONSGML kigkonsult.se iCalcreator 2.30.10//
CALSCALE:GREGORIAN
METHOD:PUBLISH
UID:d920d570-0fff-4ce4-9ad6-d32aff50141b
X-WR-CALDESC:We will be visiting Base Station Lounge to choose from many di
 fferent virtual reality experiences.  We will have dinner as well.
X-WR-RELCALID:2f445e46825d240e68018aaf133b9ba9
X-WR-TIMEZONE:America/New_York
BEGIN:VTIMEZONE
TZID:America/New_York
BEGIN:STANDARD
TZNAME:EST
DTSTART:20181104T020000
TZOFFSETFROM:-0400
TZOFFSETTO:-0500
RDATE:20191103T020000
END:STANDARD
BEGIN:DAYLIGHT
TZNAME:EDT
DTSTART:20180311T020000
TZOFFSETFROM:-0500
TZOFFSETTO:-0400
RDATE:20190310T020000
RDATE:20200308T020000
END:DAYLIGHT
END:VTIMEZONE
BEGIN:VEVENT
UID:b48ef652-736b-4845-aa41-f751a952f487
DTSTAMP:20260423T115752Z
DESCRIPTION:We will be visiting Base Station Lounge to choose from many dif
 ferent virtual reality experiences.  We will have dinner as well.
DTSTART;TZID=America/New_York:20190307T163000
DTEND;TZID=America/New_York:20190307T200000
LOCATION:Base Station VR Lounge Providence\, RI
SUMMARY:Virtual Reality Experience
END:VEVENT
END:VCALENDAR
