BEGIN:VCALENDAR
VERSION:2.0
PRODID:-//www.arcnbc.org//NONSGML kigkonsult.se iCalcreator 2.30.10//
CALSCALE:GREGORIAN
METHOD:PUBLISH
UID:587e0eb9-2efe-492f-a65b-0e74c1f5849e
X-WR-CALDESC:
X-WR-RELCALID:f6d32b0ecdbebc09bfad067e2f3bab70
X-WR-TIMEZONE:America/New_York
BEGIN:VTIMEZONE
TZID:America/New_York
BEGIN:STANDARD
TZNAME:EST
DTSTART:20181104T020000
TZOFFSETFROM:-0400
TZOFFSETTO:-0500
RDATE:20191103T020000
END:STANDARD
BEGIN:DAYLIGHT
TZNAME:EDT
DTSTART:20180311T020000
TZOFFSETFROM:-0500
TZOFFSETTO:-0400
RDATE:20190310T020000
RDATE:20200308T020000
END:DAYLIGHT
END:VTIMEZONE
BEGIN:VEVENT
UID:54e7a0c7-c101-4987-aaaf-21e331693318
DTSTAMP:20260423T115851Z
DESCRIPTION:
DTSTART;TZID=America/New_York:20190308T090000
DTEND;TZID=America/New_York:20190308T160000
LOCATION:16 Hillside Ave
SUMMARY:NCI
END:VEVENT
END:VCALENDAR
