BEGIN:VCALENDAR
VERSION:2.0
PRODID:-//www.arcnbc.org//NONSGML kigkonsult.se iCalcreator 2.30.10//
CALSCALE:GREGORIAN
METHOD:PUBLISH
UID:5e5b9887-46d0-432f-a943-25154fead1e0
X-WR-CALDESC:We will be going out to lunch in the city and then catching a 
 Providence College Basketball game.
X-WR-RELCALID:8316522bce3b56207eecd0119ebbeb8a
X-WR-TIMEZONE:America/New_York
BEGIN:VTIMEZONE
TZID:America/New_York
BEGIN:STANDARD
TZNAME:EST
DTSTART:20181104T020000
TZOFFSETFROM:-0400
TZOFFSETTO:-0500
RDATE:20191103T020000
END:STANDARD
BEGIN:DAYLIGHT
TZNAME:EDT
DTSTART:20180311T020000
TZOFFSETFROM:-0500
TZOFFSETTO:-0400
RDATE:20190310T020000
RDATE:20200308T020000
END:DAYLIGHT
END:VTIMEZONE
BEGIN:VEVENT
UID:182d3e9e-4b1c-48f3-b84d-71f7713cbc01
DTSTAMP:20260423T121048Z
DESCRIPTION:We will be going out to lunch in the city and then catching a P
 rovidence College Basketball game.
DTSTART;TZID=America/New_York:20190309T110000
DTEND;TZID=America/New_York:20190309T170000
LOCATION:The Dunkin Donut Center Providence\, RI
SUMMARY:Providence Friars Basketball
END:VEVENT
END:VCALENDAR
