BEGIN:VCALENDAR
VERSION:2.0
PRODID:-//www.arcnbc.org//NONSGML kigkonsult.se iCalcreator 2.30.10//
CALSCALE:GREGORIAN
METHOD:PUBLISH
UID:0af92f3a-8e16-41e9-a144-88d9d96131e3
X-WR-CALDESC:Weekly Bowling event.
X-WR-RELCALID:399f79c01eb0ef9a15c04943574e50cc
X-WR-TIMEZONE:America/New_York
BEGIN:VTIMEZONE
TZID:America/New_York
BEGIN:STANDARD
TZNAME:EST
DTSTART:20181104T020000
TZOFFSETFROM:-0400
TZOFFSETTO:-0500
RDATE:20191103T020000
END:STANDARD
BEGIN:DAYLIGHT
TZNAME:EDT
DTSTART:20190310T020000
TZOFFSETFROM:-0500
TZOFFSETTO:-0400
RDATE:20200308T020000
END:DAYLIGHT
END:VTIMEZONE
BEGIN:VEVENT
UID:426fa176-f75d-4c76-8d16-a71cff4f5480
DTSTAMP:20260423T120254Z
DESCRIPTION:Weekly Bowling event.
DTSTART;TZID=America/New_York:20190312T180000
DTEND;TZID=America/New_York:20190312T200000
LOCATION:East Providence Lanes
SUMMARY:Bowling
END:VEVENT
END:VCALENDAR
