BEGIN:VCALENDAR
VERSION:2.0
PRODID:-//www.arcnbc.org//NONSGML kigkonsult.se iCalcreator 2.30.10//
CALSCALE:GREGORIAN
METHOD:PUBLISH
UID:98406d44-ae6f-454d-9d5e-9d954796f761
X-WR-CALDESC:Weekly Bowling event.
X-WR-RELCALID:2aa7fee2238a853a6b0dd51803b477d6
X-WR-TIMEZONE:America/New_York
BEGIN:VTIMEZONE
TZID:America/New_York
BEGIN:STANDARD
TZNAME:EST
DTSTART:20181104T020000
TZOFFSETFROM:-0400
TZOFFSETTO:-0500
RDATE:20191103T020000
END:STANDARD
BEGIN:DAYLIGHT
TZNAME:EDT
DTSTART:20190310T020000
TZOFFSETFROM:-0500
TZOFFSETTO:-0400
RDATE:20200308T020000
END:DAYLIGHT
END:VTIMEZONE
BEGIN:VEVENT
UID:3606f11d-ef42-403e-a078-9664f3cf36ea
DTSTAMP:20260423T120224Z
DESCRIPTION:Weekly Bowling event.
DTSTART;TZID=America/New_York:20190319T180000
DTEND;TZID=America/New_York:20190319T200000
LOCATION:East Providence Lanes
SUMMARY:Bowling
END:VEVENT
END:VCALENDAR
