BEGIN:VCALENDAR
VERSION:2.0
PRODID:-//www.arcnbc.org//NONSGML kigkonsult.se iCalcreator 2.30.10//
CALSCALE:GREGORIAN
METHOD:PUBLISH
UID:952e8900-e71e-4f2c-be27-ea0c04af13ad
X-WR-CALDESC:
X-WR-RELCALID:9b61776e37a8c1cc6e750fa9ffb31355
X-WR-TIMEZONE:America/New_York
BEGIN:VTIMEZONE
TZID:America/New_York
BEGIN:STANDARD
TZNAME:EST
DTSTART:20181104T020000
TZOFFSETFROM:-0400
TZOFFSETTO:-0500
RDATE:20191103T020000
END:STANDARD
BEGIN:DAYLIGHT
TZNAME:EDT
DTSTART:20190310T020000
TZOFFSETFROM:-0500
TZOFFSETTO:-0400
RDATE:20200308T020000
END:DAYLIGHT
END:VTIMEZONE
BEGIN:VEVENT
UID:ee7aa4ec-5ca0-4373-82a8-0e6a4eda7fc3
DTSTAMP:20260423T115918Z
DESCRIPTION:
DTSTART;TZID=America/New_York:20190319T090000
DTEND;TZID=America/New_York:20190319T160000
LOCATION:16 Hillside Ave
SUMMARY:Orientation
END:VEVENT
END:VCALENDAR
