BEGIN:VCALENDAR
VERSION:2.0
PRODID:-//www.arcnbc.org//NONSGML kigkonsult.se iCalcreator 2.30.10//
CALSCALE:GREGORIAN
METHOD:PUBLISH
UID:0973572d-6a9e-48c3-826e-5edfac915ec6
X-WR-CALDESC:
X-WR-RELCALID:683975bedebbe9cf122db14928e493a9
X-WR-TIMEZONE:America/New_York
BEGIN:VTIMEZONE
TZID:America/New_York
BEGIN:STANDARD
TZNAME:EST
DTSTART:20181104T020000
TZOFFSETFROM:-0400
TZOFFSETTO:-0500
RDATE:20191103T020000
END:STANDARD
BEGIN:DAYLIGHT
TZNAME:EDT
DTSTART:20190310T020000
TZOFFSETFROM:-0500
TZOFFSETTO:-0400
RDATE:20200308T020000
END:DAYLIGHT
END:VTIMEZONE
BEGIN:VEVENT
UID:3b54507a-656f-4b9f-90b3-ec8e5a27a5fa
DTSTAMP:20260423T120035Z
DESCRIPTION:
DTSTART;TZID=America/New_York:20190320T150000
DTEND;TZID=America/New_York:20190320T210000
LOCATION:16 Hillside Ave
SUMMARY:First Aid/CPR
END:VEVENT
END:VCALENDAR
