BEGIN:VCALENDAR
VERSION:2.0
PRODID:-//www.arcnbc.org//NONSGML kigkonsult.se iCalcreator 2.30.10//
CALSCALE:GREGORIAN
METHOD:PUBLISH
UID:a07ca3df-71ee-4cfb-a87f-89dda996b965
X-WR-CALDESC:
X-WR-RELCALID:a0ca900a3c64d7bde618be96c926824f
X-WR-TIMEZONE:America/New_York
BEGIN:VTIMEZONE
TZID:America/New_York
BEGIN:STANDARD
TZNAME:EST
DTSTART:20181104T020000
TZOFFSETFROM:-0400
TZOFFSETTO:-0500
RDATE:20191103T020000
END:STANDARD
BEGIN:DAYLIGHT
TZNAME:EDT
DTSTART:20190310T020000
TZOFFSETFROM:-0500
TZOFFSETTO:-0400
RDATE:20200308T020000
END:DAYLIGHT
END:VTIMEZONE
BEGIN:VEVENT
UID:49af8a4a-4d0d-47b7-91cd-80b6cddce6be
DTSTAMP:20260423T120352Z
DESCRIPTION:
DTSTART;TZID=America/New_York:20190321T090000
DTEND;TZID=America/New_York:20190321T150000
LOCATION:16 Hillside Ave
SUMMARY:Safety Care Day 1
END:VEVENT
END:VCALENDAR
