BEGIN:VCALENDAR
VERSION:2.0
PRODID:-//www.arcnbc.org//NONSGML kigkonsult.se iCalcreator 2.30.10//
CALSCALE:GREGORIAN
METHOD:PUBLISH
UID:96fff038-33b5-493c-9429-74ab2792cf63
X-WR-CALDESC:We will be holding Self Advocacy and dinner meetings once a mo
 nth.  We are hoping that this will give all of the people we support  an o
 pportunity to get together and discuss self advocacy and what it means to 
 them.  It will give everyone the opportunity to bring any issues or concer
 ns they may have to the table to discuss with their peers.  We are also ho
 ping to get some guest speakers in as well.  The Arc will also be providin
 g dinner for all.  This is a no cost event.  Please RSVP to Danielle Marti
 n (info listed below) or to your coordinator.  This is in order for us to 
 have a count on who will be attending.\nThank you
X-WR-RELCALID:7d5169e7c0139e7162080ade79981a70
X-WR-TIMEZONE:America/New_York
BEGIN:VTIMEZONE
TZID:America/New_York
BEGIN:STANDARD
TZNAME:EST
DTSTART:20181104T020000
TZOFFSETFROM:-0400
TZOFFSETTO:-0500
RDATE:20191103T020000
END:STANDARD
BEGIN:DAYLIGHT
TZNAME:EDT
DTSTART:20190310T020000
TZOFFSETFROM:-0500
TZOFFSETTO:-0400
RDATE:20200308T020000
END:DAYLIGHT
END:VTIMEZONE
BEGIN:VEVENT
UID:cedcbf7a-07c0-465d-9650-ac144a8b6ad4
DTSTAMP:20260423T120927Z
DESCRIPTION:We will be holding Self Advocacy and dinner meetings once a mon
 th.  We are hoping that this will give all of the people we support  an op
 portunity to get together and discuss self advocacy and what it means to t
 hem.  It will give everyone the opportunity to bring any issues or concern
 s they may have to the table to discuss with their peers.  We are also hop
 ing to get some guest speakers in as well.  The Arc will also be providing
  dinner for all.  This is a no cost event.  Please RSVP to Danielle Martin
  (info listed below) or to your coordinator.  This is in order for us to h
 ave a count on who will be attending.\nThank you
DTSTART;TZID=America/New_York:20190321T150000
DTEND;TZID=America/New_York:20190321T170000
LOCATION:141 Park St. Attleboro
SUMMARY:Self Advocacy & Dinner/ No cost event
END:VEVENT
END:VCALENDAR
