BEGIN:VCALENDAR
VERSION:2.0
PRODID:-//www.arcnbc.org//NONSGML kigkonsult.se iCalcreator 2.30.10//
CALSCALE:GREGORIAN
METHOD:PUBLISH
UID:6d527c1d-08c1-42a0-890d-ba7489a856d0
X-WR-CALDESC:
X-WR-RELCALID:caf77bab47ade8906142676dbb4ce950
X-WR-TIMEZONE:America/New_York
BEGIN:VTIMEZONE
TZID:America/New_York
BEGIN:STANDARD
TZNAME:EST
DTSTART:20181104T020000
TZOFFSETFROM:-0400
TZOFFSETTO:-0500
RDATE:20191103T020000
END:STANDARD
BEGIN:DAYLIGHT
TZNAME:EDT
DTSTART:20190310T020000
TZOFFSETFROM:-0500
TZOFFSETTO:-0400
RDATE:20200308T020000
END:DAYLIGHT
END:VTIMEZONE
BEGIN:VEVENT
UID:9430a02c-65e6-4e66-9af7-0fafe5f834b4
DTSTAMP:20260423T120555Z
DESCRIPTION:
DTSTART;TZID=America/New_York:20190322T090000
DTEND;TZID=America/New_York:20190322T150000
LOCATION:16 Hillside Ave
SUMMARY:Safety Care Day 2
END:VEVENT
END:VCALENDAR
