BEGIN:VCALENDAR
VERSION:2.0
PRODID:-//www.arcnbc.org//NONSGML kigkonsult.se iCalcreator 2.30.10//
CALSCALE:GREGORIAN
METHOD:PUBLISH
UID:bedac943-e347-4f2d-baef-002009dc5807
X-WR-CALDESC:We will be holding a St. Patrick's Day dance at proAbility.  W
 e will be providing light snacks and drinks for all.  Hope to see you all 
 there!!
X-WR-RELCALID:d32ce250378722e9f45e7a080313d426
X-WR-TIMEZONE:America/New_York
BEGIN:VTIMEZONE
TZID:America/New_York
BEGIN:STANDARD
TZNAME:EST
DTSTART:20181104T020000
TZOFFSETFROM:-0400
TZOFFSETTO:-0500
RDATE:20191103T020000
END:STANDARD
BEGIN:DAYLIGHT
TZNAME:EDT
DTSTART:20190310T020000
TZOFFSETFROM:-0500
TZOFFSETTO:-0400
RDATE:20200308T020000
END:DAYLIGHT
END:VTIMEZONE
BEGIN:VEVENT
UID:c2b799d4-49e7-46d8-ad30-6ee7cf2a6ac8
DTSTAMP:20260423T120111Z
DESCRIPTION:We will be holding a St. Patrick's Day dance at proAbility.  We
  will be providing light snacks and drinks for all.  Hope to see you all t
 here!!
DTSTART;TZID=America/New_York:20190323T120000
DTEND;TZID=America/New_York:20190323T150000
LOCATION:25 Thurber Blvd. Smithfield\, RI
SUMMARY:St Patrick's Day Dance
END:VEVENT
END:VCALENDAR
