BEGIN:VCALENDAR
VERSION:2.0
PRODID:-//www.arcnbc.org//NONSGML kigkonsult.se iCalcreator 2.30.10//
CALSCALE:GREGORIAN
METHOD:PUBLISH
UID:a06cb0d9-3875-4a31-9afd-860a3d487468
X-WR-CALDESC:We will be hoping on Bloom Bus for a trip to Boston for breakf
 ast at the Hard rock Cafe and the Blue Man group at The Charles Playhouse.
X-WR-RELCALID:f421aa6d7e71d7bbc44612b425caa668
X-WR-TIMEZONE:America/New_York
BEGIN:VTIMEZONE
TZID:America/New_York
BEGIN:STANDARD
TZNAME:EST
DTSTART:20181104T020000
TZOFFSETFROM:-0400
TZOFFSETTO:-0500
RDATE:20191103T020000
END:STANDARD
BEGIN:DAYLIGHT
TZNAME:EDT
DTSTART:20190310T020000
TZOFFSETFROM:-0500
TZOFFSETTO:-0400
RDATE:20200308T020000
END:DAYLIGHT
END:VTIMEZONE
BEGIN:VEVENT
UID:872a657f-60bd-4653-9bc6-132f18725329
DTSTAMP:20260423T120040Z
DESCRIPTION:We will be hoping on Bloom Bus for a trip to Boston for breakfa
 st at the Hard rock Cafe and the Blue Man group at The Charles Playhouse.
DTSTART;TZID=America/New_York:20190324T060000
DTEND;TZID=America/New_York:20190324T200000
LOCATION:Boston\, Ma
SUMMARY:Blue man Group & Breakfast
END:VEVENT
END:VCALENDAR
