BEGIN:VCALENDAR
VERSION:2.0
PRODID:-//www.arcnbc.org//NONSGML kigkonsult.se iCalcreator 2.30.10//
CALSCALE:GREGORIAN
METHOD:PUBLISH
UID:09cda58d-2df0-4a3f-a8f2-7dfe24a478ee
X-WR-CALDESC:We will be visiting Round One again.  There is video games\, b
 owling and karaoke for everyone to play.
X-WR-RELCALID:b20801d843fd478675c7d8bb0ffe278f
X-WR-TIMEZONE:America/New_York
BEGIN:VTIMEZONE
TZID:America/New_York
BEGIN:STANDARD
TZNAME:EST
DTSTART:20181104T020000
TZOFFSETFROM:-0400
TZOFFSETTO:-0500
RDATE:20191103T020000
END:STANDARD
BEGIN:DAYLIGHT
TZNAME:EDT
DTSTART:20190310T020000
TZOFFSETFROM:-0500
TZOFFSETTO:-0400
RDATE:20200308T020000
END:DAYLIGHT
END:VTIMEZONE
BEGIN:VEVENT
UID:5314822b-fd4f-4e5e-a9cf-266589dafcc9
DTSTAMP:20260423T115852Z
DESCRIPTION:We will be visiting Round One again.  There is video games\, bo
 wling and karaoke for everyone to play.
DTSTART;TZID=America/New_York:20190325T170000
DTEND;TZID=America/New_York:20190325T210000
LOCATION:Round One Silver City Galleria
SUMMARY:Round One
END:VEVENT
END:VCALENDAR
