BEGIN:VCALENDAR
VERSION:2.0
PRODID:-//www.arcnbc.org//NONSGML kigkonsult.se iCalcreator 2.30.10//
CALSCALE:GREGORIAN
METHOD:PUBLISH
UID:d19752b1-9531-4381-9616-4895f3c45afa
X-WR-CALDESC:Weekly Bowling event.
X-WR-RELCALID:5c65c4e3a1c452e4bf8896955f65e89a
X-WR-TIMEZONE:America/New_York
BEGIN:VTIMEZONE
TZID:America/New_York
BEGIN:STANDARD
TZNAME:EST
DTSTART:20181104T020000
TZOFFSETFROM:-0400
TZOFFSETTO:-0500
RDATE:20191103T020000
END:STANDARD
BEGIN:DAYLIGHT
TZNAME:EDT
DTSTART:20190310T020000
TZOFFSETFROM:-0500
TZOFFSETTO:-0400
RDATE:20200308T020000
END:DAYLIGHT
END:VTIMEZONE
BEGIN:VEVENT
UID:7ef470b6-a92b-49f8-a988-65e51c36e640
DTSTAMP:20260423T120253Z
DESCRIPTION:Weekly Bowling event.
DTSTART;TZID=America/New_York:20190326T180000
DTEND;TZID=America/New_York:20190326T200000
LOCATION:East Providence Lanes
SUMMARY:Bowling
END:VEVENT
END:VCALENDAR
