BEGIN:VCALENDAR
VERSION:2.0
PRODID:-//www.arcnbc.org//NONSGML kigkonsult.se iCalcreator 2.30.10//
CALSCALE:GREGORIAN
METHOD:PUBLISH
UID:33f522c9-340b-4a3a-a666-f66850c04b5b
X-WR-CALDESC:
X-WR-RELCALID:4c17e879b5c5e29fc39fdb75a18996f6
X-WR-TIMEZONE:America/New_York
BEGIN:VTIMEZONE
TZID:America/New_York
BEGIN:STANDARD
TZNAME:EST
DTSTART:20181104T020000
TZOFFSETFROM:-0400
TZOFFSETTO:-0500
RDATE:20191103T020000
END:STANDARD
BEGIN:DAYLIGHT
TZNAME:EDT
DTSTART:20190310T020000
TZOFFSETFROM:-0500
TZOFFSETTO:-0400
RDATE:20200308T020000
END:DAYLIGHT
END:VTIMEZONE
BEGIN:VEVENT
UID:59577774-8eda-4ade-9801-94de4ae30245
DTSTAMP:20260423T120034Z
DESCRIPTION:
DTSTART;TZID=America/New_York:20190327T090000
DTEND;TZID=America/New_York:20190327T150000
LOCATION:412 B County Street\, New Bedford\, MA
SUMMARY:First Aid/CPR
END:VEVENT
END:VCALENDAR
