BEGIN:VCALENDAR
VERSION:2.0
PRODID:-//www.arcnbc.org//NONSGML kigkonsult.se iCalcreator 2.30.10//
CALSCALE:GREGORIAN
METHOD:PUBLISH
UID:7ede746a-6cff-49a7-b547-5899b10fb2af
X-WR-CALDESC:Weekly Bowling event.
X-WR-RELCALID:3b32a165fb9947b1a58df4698c637458
X-WR-TIMEZONE:America/New_York
BEGIN:VTIMEZONE
TZID:America/New_York
BEGIN:STANDARD
TZNAME:EST
DTSTART:20181104T020000
TZOFFSETFROM:-0400
TZOFFSETTO:-0500
RDATE:20191103T020000
END:STANDARD
BEGIN:DAYLIGHT
TZNAME:EDT
DTSTART:20190310T020000
TZOFFSETFROM:-0500
TZOFFSETTO:-0400
RDATE:20200308T020000
END:DAYLIGHT
END:VTIMEZONE
BEGIN:VEVENT
UID:deb63819-18d1-4d35-9023-2521b3b71af0
DTSTAMP:20260423T120236Z
DESCRIPTION:Weekly Bowling event.
DTSTART;TZID=America/New_York:20190402T180000
DTEND;TZID=America/New_York:20190402T200000
LOCATION:East Providence Lanes
SUMMARY:Bowling
END:VEVENT
END:VCALENDAR
