BEGIN:VCALENDAR
VERSION:2.0
PRODID:-//www.arcnbc.org//NONSGML kigkonsult.se iCalcreator 2.30.10//
CALSCALE:GREGORIAN
METHOD:PUBLISH
UID:2188e057-3d0e-487f-9a2c-2e31bffcd59c
X-WR-CALDESC:
X-WR-RELCALID:fdf13b9880852609cfc38fe38bf037fb
X-WR-TIMEZONE:America/New_York
BEGIN:VTIMEZONE
TZID:America/New_York
BEGIN:STANDARD
TZNAME:EST
DTSTART:20181104T020000
TZOFFSETFROM:-0400
TZOFFSETTO:-0500
RDATE:20191103T020000
END:STANDARD
BEGIN:DAYLIGHT
TZNAME:EDT
DTSTART:20190310T020000
TZOFFSETFROM:-0500
TZOFFSETTO:-0400
RDATE:20200308T020000
END:DAYLIGHT
END:VTIMEZONE
BEGIN:VEVENT
UID:f1b554b4-caf6-4468-b8d1-b8d77b233e05
DTSTAMP:20260423T115853Z
DESCRIPTION:
DTSTART;TZID=America/New_York:20190405T150000
DTEND;TZID=America/New_York:20190405T210000
LOCATION:16 Hillside Avenue\, Attleboro\, MA  02703
SUMMARY:First Aid/CPR
END:VEVENT
END:VCALENDAR
