BEGIN:VCALENDAR
VERSION:2.0
PRODID:-//www.arcnbc.org//NONSGML kigkonsult.se iCalcreator 2.30.10//
CALSCALE:GREGORIAN
METHOD:PUBLISH
UID:25b5adc4-10cb-46d2-aa82-730175d7323a
X-WR-CALDESC:We will be grabbing a quick dinner.  We will then be attending
  an evening  softball game at Wheaton College.
X-WR-RELCALID:3f98a0c001de0da23e97e0e638ee09d2
X-WR-TIMEZONE:America/New_York
BEGIN:VTIMEZONE
TZID:America/New_York
BEGIN:STANDARD
TZNAME:EST
DTSTART:20181104T020000
TZOFFSETFROM:-0400
TZOFFSETTO:-0500
RDATE:20191103T020000
END:STANDARD
BEGIN:DAYLIGHT
TZNAME:EDT
DTSTART:20190310T020000
TZOFFSETFROM:-0500
TZOFFSETTO:-0400
RDATE:20200308T020000
END:DAYLIGHT
END:VTIMEZONE
BEGIN:VEVENT
UID:22e7a7c2-908b-49b6-87d1-5986c04f3a85
DTSTAMP:20260423T120827Z
DESCRIPTION:We will be grabbing a quick dinner.  We will then be attending 
 an evening  softball game at Wheaton College.
DTSTART;TZID=America/New_York:20190405T170000
DTEND;TZID=America/New_York:20190405T200000
LOCATION:Wheaton College Norton\, Ma
SUMMARY:Wheaton  Vs\, Wellesley softball game
END:VEVENT
END:VCALENDAR
