BEGIN:VCALENDAR
VERSION:2.0
PRODID:-//www.arcnbc.org//NONSGML kigkonsult.se iCalcreator 2.30.10//
CALSCALE:GREGORIAN
METHOD:PUBLISH
UID:291a0f9c-0c1a-4ebf-acd1-f04f792f7319
X-WR-CALDESC:This is a live version of the Comedy Central Show..'Whose Line
  is it Anyway'.  The show will be hosted by Drew Carey himself.  It runs 9
 0 minutes at The Zeiterion Theater and we will be having dinner prior to t
 he show.
X-WR-RELCALID:8e7fd50857bd97b36e079f3555d04c68
X-WR-TIMEZONE:America/New_York
BEGIN:VTIMEZONE
TZID:America/New_York
BEGIN:STANDARD
TZNAME:EST
DTSTART:20181104T020000
TZOFFSETFROM:-0400
TZOFFSETTO:-0500
RDATE:20191103T020000
END:STANDARD
BEGIN:DAYLIGHT
TZNAME:EDT
DTSTART:20190310T020000
TZOFFSETFROM:-0500
TZOFFSETTO:-0400
RDATE:20200308T020000
END:DAYLIGHT
END:VTIMEZONE
BEGIN:VEVENT
UID:1fa07be7-87d9-4eb4-acf1-f8c014634517
DTSTAMP:20260423T120041Z
DESCRIPTION:This is a live version of the Comedy Central Show..'Whose Line 
 is it Anyway'.  The show will be hosted by Drew Carey himself.  It runs 90
  minutes at The Zeiterion Theater and we will be having dinner prior to th
 e show.
DTSTART;TZID=America/New_York:20190409T180000
DTEND;TZID=America/New_York:20190409T223000
LOCATION:Zeiterion Theater New Bedford
SUMMARY:'Whose Line is it Anyways'
END:VEVENT
END:VCALENDAR
