BEGIN:VCALENDAR
VERSION:2.0
PRODID:-//www.arcnbc.org//NONSGML kigkonsult.se iCalcreator 2.30.10//
CALSCALE:GREGORIAN
METHOD:PUBLISH
UID:b68b1669-1b4b-41cc-8a42-635af57517c6
X-WR-CALDESC:We will be discussing the recreation calendar\, upcoming event
 s and events people would like to attend.  We talk about different ways we
  can all advocate for ourselves on a daily basis.  We sometimes have guest
  speakers\, and we always provide dinner.
X-WR-RELCALID:daad281545ae82dd7f5b012cfbb50002
X-WR-TIMEZONE:America/New_York
BEGIN:VTIMEZONE
TZID:America/New_York
BEGIN:STANDARD
TZNAME:EST
DTSTART:20181104T020000
TZOFFSETFROM:-0400
TZOFFSETTO:-0500
RDATE:20191103T020000
END:STANDARD
BEGIN:DAYLIGHT
TZNAME:EDT
DTSTART:20190310T020000
TZOFFSETFROM:-0500
TZOFFSETTO:-0400
RDATE:20200308T020000
END:DAYLIGHT
END:VTIMEZONE
BEGIN:VEVENT
UID:3fc1dc82-542e-4642-8bb6-52b49507a7e2
DTSTAMP:20260423T120632Z
DESCRIPTION:We will be discussing the recreation calendar\, upcoming events
  and events people would like to attend.  We talk about different ways we 
 can all advocate for ourselves on a daily basis.  We sometimes have guest 
 speakers\, and we always provide dinner.
DTSTART;TZID=America/New_York:20190411T150000
DTEND;TZID=America/New_York:20190411T173000
LOCATION:The Arc @ 141 Park St. Attleboro\, Ma
SUMMARY:Self Advocacy and Dinner
END:VEVENT
END:VCALENDAR
