BEGIN:VCALENDAR
VERSION:2.0
PRODID:-//www.arcnbc.org//NONSGML kigkonsult.se iCalcreator 2.30.10//
CALSCALE:GREGORIAN
METHOD:PUBLISH
UID:87b886f8-db66-48b9-813d-d6c1aa6d917c
X-WR-CALDESC:Off Broadway show where they make music\, comedy and dance.  T
 his show will be at PPAC\, and we will have lunch prior to the show.  Plea
 se see link below for more information.
X-WR-RELCALID:cd62d9f909a99d37fa6f83dac120917b
X-WR-TIMEZONE:America/New_York
BEGIN:VTIMEZONE
TZID:America/New_York
BEGIN:STANDARD
TZNAME:EST
DTSTART:20181104T020000
TZOFFSETFROM:-0400
TZOFFSETTO:-0500
RDATE:20191103T020000
END:STANDARD
BEGIN:DAYLIGHT
TZNAME:EDT
DTSTART:20190310T020000
TZOFFSETFROM:-0500
TZOFFSETTO:-0400
RDATE:20200308T020000
END:DAYLIGHT
END:VTIMEZONE
BEGIN:VEVENT
UID:b5aca881-8ae2-4ac9-ad26-44bbeeb5e58b
DTSTAMP:20260423T120223Z
DESCRIPTION:Off Broadway show where they make music\, comedy and dance.  Th
 is show will be at PPAC\, and we will have lunch prior to the show.  Pleas
 e see link below for more information.
DTSTART;TZID=America/New_York:20190413T140000
DTEND;TZID=America/New_York:20190413T200000
LOCATION:Providence Performing Art Center
SUMMARY:Stomp (Off Broadway show)
END:VEVENT
END:VCALENDAR
