BEGIN:VCALENDAR
VERSION:2.0
PRODID:-//www.arcnbc.org//NONSGML kigkonsult.se iCalcreator 2.30.10//
CALSCALE:GREGORIAN
METHOD:PUBLISH
UID:12c91c9d-a85a-4820-86f7-2c3b7ffc5bf5
X-WR-CALDESC:We will be having lunch prior to the hockey game.
X-WR-RELCALID:1681ad84534a958e0a97bfc3c6d39a7c
X-WR-TIMEZONE:America/New_York
BEGIN:VTIMEZONE
TZID:America/New_York
BEGIN:STANDARD
TZNAME:EST
DTSTART:20181104T020000
TZOFFSETFROM:-0400
TZOFFSETTO:-0500
RDATE:20191103T020000
END:STANDARD
BEGIN:DAYLIGHT
TZNAME:EDT
DTSTART:20190310T020000
TZOFFSETFROM:-0500
TZOFFSETTO:-0400
RDATE:20200308T020000
END:DAYLIGHT
END:VTIMEZONE
BEGIN:VEVENT
UID:68360a25-df8b-48f1-9323-3478654801ee
DTSTAMP:20260423T120238Z
DESCRIPTION:We will be having lunch prior to the hockey game.
DTSTART;TZID=America/New_York:20190414T123000
DTEND;TZID=America/New_York:20190414T190000
LOCATION:Dunkin Donuts Center Providence\, RI
SUMMARY:Providence Bruins & Lunch
END:VEVENT
END:VCALENDAR
