BEGIN:VCALENDAR
VERSION:2.0
PRODID:-//www.arcnbc.org//NONSGML kigkonsult.se iCalcreator 2.30.10//
CALSCALE:GREGORIAN
METHOD:PUBLISH
UID:8f2c2cd3-c550-4ff4-916c-1b33800aa0c6
X-WR-CALDESC:Weekly Bowling event.
X-WR-RELCALID:f2a44720ca56c53e76157c5d6200f557
X-WR-TIMEZONE:America/New_York
BEGIN:VTIMEZONE
TZID:America/New_York
BEGIN:STANDARD
TZNAME:EST
DTSTART:20181104T020000
TZOFFSETFROM:-0400
TZOFFSETTO:-0500
RDATE:20191103T020000
END:STANDARD
BEGIN:DAYLIGHT
TZNAME:EDT
DTSTART:20190310T020000
TZOFFSETFROM:-0500
TZOFFSETTO:-0400
RDATE:20200308T020000
END:DAYLIGHT
END:VTIMEZONE
BEGIN:VEVENT
UID:7a607c4c-5989-4aa5-b33d-525a36fb4588
DTSTAMP:20260423T120236Z
DESCRIPTION:Weekly Bowling event.
DTSTART;TZID=America/New_York:20190416T180000
DTEND;TZID=America/New_York:20190416T200000
LOCATION:East Providence Lanes
SUMMARY:Bowling
END:VEVENT
END:VCALENDAR
