BEGIN:VCALENDAR
VERSION:2.0
PRODID:-//www.arcnbc.org//NONSGML kigkonsult.se iCalcreator 2.30.10//
CALSCALE:GREGORIAN
METHOD:PUBLISH
UID:fdee4741-0c2c-4a87-96d3-380598836ffd
X-WR-CALDESC:The YMCA hosts a night of fun for the people we support.  The 
 pool is available for an hour of swimming\, then dinner is provided\, as w
 ell as some recreation in the gym afterwards.  This event everyone is tran
 sported to and from the YMCA.
X-WR-RELCALID:f2e186b54c7a3bbd5a064c9f67d1096b
X-WR-TIMEZONE:America/New_York
BEGIN:VTIMEZONE
TZID:America/New_York
BEGIN:STANDARD
TZNAME:EST
DTSTART:20181104T020000
TZOFFSETFROM:-0400
TZOFFSETTO:-0500
RDATE:20191103T020000
END:STANDARD
BEGIN:DAYLIGHT
TZNAME:EDT
DTSTART:20190310T020000
TZOFFSETFROM:-0500
TZOFFSETTO:-0400
RDATE:20200308T020000
END:DAYLIGHT
END:VTIMEZONE
BEGIN:VEVENT
UID:b86ead97-92da-4750-a916-e915ac0db461
DTSTAMP:20260423T120633Z
DESCRIPTION:The YMCA hosts a night of fun for the people we support.  The p
 ool is available for an hour of swimming\, then dinner is provided\, as we
 ll as some recreation in the gym afterwards.  This event everyone is trans
 ported to and from the YMCA.
DTSTART;TZID=America/New_York:20190419T190000
DTEND;TZID=America/New_York:20190419T210000
LOCATION:YMCA 537 Pleasant St. Attleboro\, MA 02703
SUMMARY:Go Night
END:VEVENT
END:VCALENDAR
