BEGIN:VCALENDAR
VERSION:2.0
PRODID:-//www.arcnbc.org//NONSGML kigkonsult.se iCalcreator 2.30.10//
CALSCALE:GREGORIAN
METHOD:PUBLISH
UID:b2cf0231-425d-4b09-922f-7f9f55aef12f
X-WR-CALDESC:Earth Day at Capron Park Zoo.  Website says..'Learn a little a
 bout local green businesses\, make enrichment for the animals and enjoy a 
 day at the zoo.  All activities are free with zoo membership'.
X-WR-RELCALID:59c234022a15d64b079fa02b8b00960a
X-WR-TIMEZONE:America/New_York
BEGIN:VTIMEZONE
TZID:America/New_York
BEGIN:STANDARD
TZNAME:EST
DTSTART:20181104T020000
TZOFFSETFROM:-0400
TZOFFSETTO:-0500
RDATE:20191103T020000
END:STANDARD
BEGIN:DAYLIGHT
TZNAME:EDT
DTSTART:20190310T020000
TZOFFSETFROM:-0500
TZOFFSETTO:-0400
RDATE:20200308T020000
END:DAYLIGHT
END:VTIMEZONE
BEGIN:VEVENT
UID:0ae04916-2825-471f-ae1c-b82fa8747556
DTSTAMP:20260423T120237Z
DESCRIPTION:Earth Day at Capron Park Zoo.  Website says..'Learn a little ab
 out local green businesses\, make enrichment for the animals and enjoy a d
 ay at the zoo.  All activities are free with zoo membership'.
DTSTART;TZID=America/New_York:20190420T110000
DTEND;TZID=America/New_York:20190420T160000
LOCATION:Capron Park Attleboro\, Ma
SUMMARY:Earth Day @ Capron Park
END:VEVENT
END:VCALENDAR
