BEGIN:VCALENDAR
VERSION:2.0
PRODID:-//www.arcnbc.org//NONSGML kigkonsult.se iCalcreator 2.30.10//
CALSCALE:GREGORIAN
METHOD:PUBLISH
UID:fb8fd772-8d48-4770-b453-48954422bba2
X-WR-CALDESC:Weekly Bowling event.
X-WR-RELCALID:46d4510868b97caa2f5fb7c51c537e31
X-WR-TIMEZONE:America/New_York
BEGIN:VTIMEZONE
TZID:America/New_York
BEGIN:STANDARD
TZNAME:EST
DTSTART:20181104T020000
TZOFFSETFROM:-0400
TZOFFSETTO:-0500
RDATE:20191103T020000
END:STANDARD
BEGIN:DAYLIGHT
TZNAME:EDT
DTSTART:20190310T020000
TZOFFSETFROM:-0500
TZOFFSETTO:-0400
RDATE:20200308T020000
END:DAYLIGHT
END:VTIMEZONE
BEGIN:VEVENT
UID:64824ed3-ba3e-4fa5-9c5b-f5a2bceb8947
DTSTAMP:20260423T120224Z
DESCRIPTION:Weekly Bowling event.
DTSTART;TZID=America/New_York:20190423T180000
DTEND;TZID=America/New_York:20190423T200000
LOCATION:East Providence Lanes
SUMMARY:Bowling
END:VEVENT
END:VCALENDAR
