BEGIN:VCALENDAR
VERSION:2.0
PRODID:-//www.arcnbc.org//NONSGML kigkonsult.se iCalcreator 2.30.10//
CALSCALE:GREGORIAN
METHOD:PUBLISH
UID:318c8949-08a0-41f6-828f-7da4d615d00d
X-WR-CALDESC:Calmer Con is a comic book and pop culture convention designed
  to be more sensory friendly.  There will be vendors\, door prizes\, as we
 ll as Disney\, super hero's and comic characters. Picture opportunity's an
 d lots of fun.  Please see link below to find out who Calm Passion is and 
 there mission.
X-WR-RELCALID:f2e17a8161b561008cdfdf65c7a5abda
X-WR-TIMEZONE:America/New_York
BEGIN:VTIMEZONE
TZID:America/New_York
BEGIN:STANDARD
TZNAME:EST
DTSTART:20181104T020000
TZOFFSETFROM:-0400
TZOFFSETTO:-0500
RDATE:20191103T020000
END:STANDARD
BEGIN:DAYLIGHT
TZNAME:EDT
DTSTART:20190310T020000
TZOFFSETFROM:-0500
TZOFFSETTO:-0400
RDATE:20200308T020000
END:DAYLIGHT
END:VTIMEZONE
BEGIN:VEVENT
UID:d41fff7d-9c94-493d-9dd8-be91ce8e9360
DTSTAMP:20260423T120040Z
DESCRIPTION:Calmer Con is a comic book and pop culture convention designed 
 to be more sensory friendly.  There will be vendors\, door prizes\, as wel
 l as Disney\, super hero's and comic characters. Picture opportunity's and
  lots of fun.  Please see link below to find out who Calm Passion is and t
 here mission.
DTSTART;TZID=America/New_York:20190427T140000
DTEND;TZID=America/New_York:20190427T193000
LOCATION:Becker College Leicester\, Ma
SUMMARY:Calmer Con
END:VEVENT
END:VCALENDAR
