BEGIN:VCALENDAR
VERSION:2.0
PRODID:-//www.arcnbc.org//NONSGML kigkonsult.se iCalcreator 2.30.10//
CALSCALE:GREGORIAN
METHOD:PUBLISH
UID:9884b473-d1b9-4bd8-8901-fa8c3069d1f9
X-WR-CALDESC:We will be hosting a spring fling dance at proAbility.   Wear 
 your favorite spring attire\, and get ready to dance the night away.  Ther
 e will be light snacks and drinks provided.
X-WR-RELCALID:a29e0abd90cbb076b65c25e2de569ba1
X-WR-TIMEZONE:America/New_York
BEGIN:VTIMEZONE
TZID:America/New_York
BEGIN:STANDARD
TZNAME:EST
DTSTART:20181104T020000
TZOFFSETFROM:-0400
TZOFFSETTO:-0500
RDATE:20191103T020000
END:STANDARD
BEGIN:DAYLIGHT
TZNAME:EDT
DTSTART:20190310T020000
TZOFFSETFROM:-0500
TZOFFSETTO:-0400
RDATE:20200308T020000
END:DAYLIGHT
END:VTIMEZONE
BEGIN:VEVENT
UID:2142ca81-bc96-4992-be4d-9e963fd465fb
DTSTAMP:20260423T120112Z
DESCRIPTION:We will be hosting a spring fling dance at proAbility.   Wear y
 our favorite spring attire\, and get ready to dance the night away.  There
  will be light snacks and drinks provided.
DTSTART;TZID=America/New_York:20190429T180000
DTEND;TZID=America/New_York:20190429T210000
LOCATION:proAbility Day Program in Smithfield\, RI
SUMMARY:Spring Fling Dance
END:VEVENT
END:VCALENDAR
