BEGIN:VCALENDAR
VERSION:2.0
PRODID:-//www.arcnbc.org//NONSGML kigkonsult.se iCalcreator 2.30.10//
CALSCALE:GREGORIAN
METHOD:PUBLISH
UID:6f0ded17-1444-4dbe-845a-7e728af36ce4
X-WR-CALDESC:Weekly Bowling event.
X-WR-RELCALID:1cdf8d06f0bbfad97c43bb9df3f9b191
X-WR-TIMEZONE:America/New_York
BEGIN:VTIMEZONE
TZID:America/New_York
BEGIN:STANDARD
TZNAME:EST
DTSTART:20181104T020000
TZOFFSETFROM:-0400
TZOFFSETTO:-0500
RDATE:20191103T020000
END:STANDARD
BEGIN:DAYLIGHT
TZNAME:EDT
DTSTART:20190310T020000
TZOFFSETFROM:-0500
TZOFFSETTO:-0400
RDATE:20200308T020000
END:DAYLIGHT
END:VTIMEZONE
BEGIN:VEVENT
UID:ebfe2143-5a56-4a6f-be18-8909a2ae113d
DTSTAMP:20260423T120111Z
DESCRIPTION:Weekly Bowling event.
DTSTART;TZID=America/New_York:20190430T180000
DTEND;TZID=America/New_York:20190430T200000
LOCATION:East Providence Lanes
SUMMARY:Bowling
END:VEVENT
END:VCALENDAR
