BEGIN:VCALENDAR
VERSION:2.0
PRODID:-//www.arcnbc.org//NONSGML kigkonsult.se iCalcreator 2.30.10//
CALSCALE:GREGORIAN
METHOD:PUBLISH
UID:31c9b8a7-c7fb-4fc7-bbff-630128cc23a3
X-WR-CALDESC:Monster mini golf is an indoor miniature golf course with glow
  in the dark effects\, as well as games .  We will be having dinner prior 
 to playing golf.
X-WR-RELCALID:6cb771a869c0c27b2ebac719a61d3a83
X-WR-TIMEZONE:America/New_York
BEGIN:VTIMEZONE
TZID:America/New_York
BEGIN:STANDARD
TZNAME:EST
DTSTART:20181104T020000
TZOFFSETFROM:-0400
TZOFFSETTO:-0500
RDATE:20191103T020000
END:STANDARD
BEGIN:DAYLIGHT
TZNAME:EDT
DTSTART:20190310T020000
TZOFFSETFROM:-0500
TZOFFSETTO:-0400
RDATE:20200308T020000
END:DAYLIGHT
END:VTIMEZONE
BEGIN:VEVENT
UID:9c71e0aa-0192-4855-be22-49871a57ddc0
DTSTAMP:20260423T120039Z
DESCRIPTION:Monster mini golf is an indoor miniature golf course with glow 
 in the dark effects\, as well as games .  We will be having dinner prior t
 o playing golf.
DTSTART;TZID=America/New_York:20190502T170000
DTEND;TZID=America/New_York:20190502T210000
LOCATION:Seekonk\, Ma
SUMMARY:Monster Mini Golf & Dinner
END:VEVENT
END:VCALENDAR
