BEGIN:VCALENDAR
VERSION:2.0
PRODID:-//www.arcnbc.org//NONSGML kigkonsult.se iCalcreator 2.30.10//
CALSCALE:GREGORIAN
METHOD:PUBLISH
UID:29916e57-f0a0-4184-8c31-e52aea5c9824
X-WR-CALDESC:This is a play about a young actor being convinced to act as H
 amlet in a play.  We will be having dinner prior to the show.  The show wi
 ll be 2 hours long.
X-WR-RELCALID:5398143ce1093a9c6f356a47d413fcd2
X-WR-TIMEZONE:America/New_York
BEGIN:VTIMEZONE
TZID:America/New_York
BEGIN:STANDARD
TZNAME:EST
DTSTART:20181104T020000
TZOFFSETFROM:-0400
TZOFFSETTO:-0500
RDATE:20191103T020000
RDATE:20201101T020000
END:STANDARD
BEGIN:DAYLIGHT
TZNAME:EDT
DTSTART:20190310T020000
TZOFFSETFROM:-0500
TZOFFSETTO:-0400
RDATE:20200308T020000
END:DAYLIGHT
END:VTIMEZONE
BEGIN:VEVENT
UID:709d3046-3941-445f-95ca-24ec72854e26
DTSTAMP:20260423T120112Z
DESCRIPTION:This is a play about a young actor being convinced to act as Ha
 mlet in a play.  We will be having dinner prior to the show.  The show wil
 l be 2 hours long.
DTSTART;TZID=America/New_York:20190504T170000
DTEND;TZID=America/New_York:20190504T230000
LOCATION:Attleboro Community Theater
SUMMARY:'I Hate Hamlet' Play & dinner
END:VEVENT
END:VCALENDAR
