BEGIN:VCALENDAR
VERSION:2.0
PRODID:-//www.arcnbc.org//NONSGML kigkonsult.se iCalcreator 2.30.10//
CALSCALE:GREGORIAN
METHOD:PUBLISH
UID:6548ea68-0633-436b-ad94-e10d6eaa0ed3
X-WR-CALDESC:Weekly Bowling event.
X-WR-RELCALID:cdb48c3efd4d60c5b53af38fce079281
X-WR-TIMEZONE:America/New_York
BEGIN:VTIMEZONE
TZID:America/New_York
BEGIN:STANDARD
TZNAME:EST
DTSTART:20181104T020000
TZOFFSETFROM:-0400
TZOFFSETTO:-0500
RDATE:20191103T020000
RDATE:20201101T020000
END:STANDARD
BEGIN:DAYLIGHT
TZNAME:EDT
DTSTART:20190310T020000
TZOFFSETFROM:-0500
TZOFFSETTO:-0400
RDATE:20200308T020000
END:DAYLIGHT
END:VTIMEZONE
BEGIN:VEVENT
UID:4bfbb42c-e6ff-4529-b49e-ce74d3fd242d
DTSTAMP:20260423T120354Z
DESCRIPTION:Weekly Bowling event.
DTSTART;TZID=America/New_York:20190507T180000
DTEND;TZID=America/New_York:20190507T200000
LOCATION:East Providence Lanes
SUMMARY:Bowling
END:VEVENT
END:VCALENDAR
