BEGIN:VCALENDAR
VERSION:2.0
PRODID:-//www.arcnbc.org//NONSGML kigkonsult.se iCalcreator 2.30.10//
CALSCALE:GREGORIAN
METHOD:PUBLISH
UID:4e495ea7-d1bc-40fe-bfff-a43671f57c0d
X-WR-CALDESC:
X-WR-RELCALID:3ed664f53b57cadbf3e230b512c13d79
X-WR-TIMEZONE:America/New_York
BEGIN:VTIMEZONE
TZID:America/New_York
BEGIN:STANDARD
TZNAME:EST
DTSTART:20181104T020000
TZOFFSETFROM:-0400
TZOFFSETTO:-0500
RDATE:20191103T020000
RDATE:20201101T020000
END:STANDARD
BEGIN:DAYLIGHT
TZNAME:EDT
DTSTART:20190310T020000
TZOFFSETFROM:-0500
TZOFFSETTO:-0400
RDATE:20200308T020000
END:DAYLIGHT
END:VTIMEZONE
BEGIN:VEVENT
UID:609d37a4-98f4-40a4-a0ce-e7c5b1dec2bd
DTSTAMP:20260423T115752Z
DESCRIPTION:
DTSTART;TZID=America/New_York:20190507T090000
DTEND;TZID=America/New_York:20190507T150000
LOCATION:16 Hillside Avenue\, Attleboro\, MA
SUMMARY:Orientation
END:VEVENT
END:VCALENDAR
