BEGIN:VCALENDAR
VERSION:2.0
PRODID:-//www.arcnbc.org//NONSGML kigkonsult.se iCalcreator 2.30.10//
CALSCALE:GREGORIAN
METHOD:PUBLISH
UID:483f19ae-51fa-4813-b498-3167b42cb433
X-WR-CALDESC:
X-WR-RELCALID:5f5b3d3a3f6f89319df823beba8388ea
X-WR-TIMEZONE:America/New_York
BEGIN:VTIMEZONE
TZID:America/New_York
BEGIN:STANDARD
TZNAME:EST
DTSTART:20181104T020000
TZOFFSETFROM:-0400
TZOFFSETTO:-0500
RDATE:20191103T020000
RDATE:20201101T020000
END:STANDARD
BEGIN:DAYLIGHT
TZNAME:EDT
DTSTART:20190310T020000
TZOFFSETFROM:-0500
TZOFFSETTO:-0400
RDATE:20200308T020000
END:DAYLIGHT
END:VTIMEZONE
BEGIN:VEVENT
UID:fdc73d05-4c95-4cba-be48-4ecdf330ace8
DTSTAMP:20260423T115853Z
DESCRIPTION:
DTSTART;TZID=America/New_York:20190508T090000
DTEND;TZID=America/New_York:20190508T150000
LOCATION:16 Hillside Avenue\, Attleboro\, MA
SUMMARY:First Aid/CPR
END:VEVENT
END:VCALENDAR
